BEGIN:VCALENDAR
VERSION:2.0
PRODID:-//wp-events-plugin.com//7.2.1//EN
TZID:Europe/London
X-WR-TIMEZONE:Europe/London
BEGIN:VEVENT
UID:89@karskiquartet.com
DTSTART;TZID=Europe/Berlin:20260322T200000
DTEND;TZID=Europe/Berlin:20260322T200000
DTSTAMP:20260210T222049Z
URL:https://karskiquartet.com/events/namur-be-4/
SUMMARY:Flawinne (BE)
DESCRIPTION:PRIVATE EVENT - RSVP\nQuintets by Boccherini\n\nKQ &amp\; Rapha
 el Feye\n\n&nbsp\;
END:VEVENT
BEGIN:VTIMEZONE
TZID:Europe/Berlin
X-LIC-LOCATION:Europe/Berlin
BEGIN:STANDARD
DTSTART:20251026T020000
TZOFFSETFROM:+0200
TZOFFSETTO:+0100
TZNAME:CET
END:STANDARD
END:VTIMEZONE
END:VCALENDAR