BEGIN:VCALENDAR
VERSION:2.0
PRODID:-//wp-events-plugin.com//7.2.1//EN
TZID:Europe/London
X-WR-TIMEZONE:Europe/London
BEGIN:VEVENT
UID:73@karskiquartet.com
DTSTART;TZID=Europe/Berlin:20251208T200000
DTEND;TZID=Europe/Berlin:20251208T200000
DTSTAMP:20251005T100251Z
URL:https://karskiquartet.com/events/clermond-ferrand-fr/
SUMMARY:Clérmond-Ferrand (FR) 
DESCRIPTION:Works by Ginastera\, Guastavino\, Brouwer\, Malcolm\, Bacewicz\
 n\nKQ &amp\; Gaëlle Solal - guitar
END:VEVENT
BEGIN:VTIMEZONE
TZID:Europe/Berlin
X-LIC-LOCATION:Europe/Berlin
BEGIN:STANDARD
DTSTART:20251026T020000
TZOFFSETFROM:+0200
TZOFFSETTO:+0100
TZNAME:CET
END:STANDARD
END:VTIMEZONE
END:VCALENDAR