BEGIN:VCALENDAR
VERSION:2.0
PRODID:-//wp-events-plugin.com//7.2.1//EN
TZID:Europe/London
X-WR-TIMEZONE:Europe/London
BEGIN:VEVENT
UID:84@karskiquartet.com
DTSTART;TZID=Europe/Berlin:20260116T180000
DTEND;TZID=Europe/Berlin:20260116T180000
DTSTAMP:20260114T114048Z
URL:https://karskiquartet.com/events/brussels-be-9/
SUMMARY:BRUSSELS (BE)
DESCRIPTION:PRIVATE EVENT\nWorks by Mendelssohn\, Mozart\n\nKQ &amp\; Luc B
 erge - horn
END:VEVENT
BEGIN:VTIMEZONE
TZID:Europe/Berlin
X-LIC-LOCATION:Europe/Berlin
BEGIN:STANDARD
DTSTART:20251026T020000
TZOFFSETFROM:+0200
TZOFFSETTO:+0100
TZNAME:CET
END:STANDARD
END:VTIMEZONE
END:VCALENDAR