BEGIN:VCALENDAR
VERSION:2.0
PRODID:-//wp-events-plugin.com//7.2.1//EN
TZID:Europe/London
X-WR-TIMEZONE:Europe/London
BEGIN:VEVENT
UID:81@karskiquartet.com
DTSTART;TZID=Europe/Berlin:20251024T193000
DTEND;TZID=Europe/Berlin:20251024T193000
DTSTAMP:20251007T210027Z
URL:https://karskiquartet.com/events/brussels-be-7/
SUMMARY:BRUSSELS (BE)
DESCRIPTION:"BACEWICZ" CD Showcase - a personal presentation of our recordi
 ng journey!\n\nQ&amp\;A\n\nTraditional polish folk songs\n\nG.Bacewicz - P
 iano Quintet no.1\n\nKQ &amp\; Jâms Coleman - piano\n\nRSVP
END:VEVENT
BEGIN:VTIMEZONE
TZID:Europe/Berlin
X-LIC-LOCATION:Europe/Berlin
BEGIN:DAYLIGHT
DTSTART:20250330T030000
TZOFFSETFROM:+0100
TZOFFSETTO:+0200
TZNAME:CEST
END:DAYLIGHT
END:VTIMEZONE
END:VCALENDAR