BEGIN:VCALENDAR
VERSION:2.0
PRODID:-//wp-events-plugin.com//7.2.1//EN
TZID:Europe/London
X-WR-TIMEZONE:Europe/London
BEGIN:VEVENT
UID:75@karskiquartet.com
DTSTART;TZID=Europe/Berlin;VALUE=DATE:20250603
DTEND;TZID=Europe/Berlin;VALUE=DATE:20250606
DTSTAMP:20250519T173425Z
URL:https://karskiquartet.com/events/antwerp-amuzbe/
SUMMARY:Antwerp Amuz(BE)
DESCRIPTION:CD RECORDING
END:VEVENT
BEGIN:VTIMEZONE
TZID:Europe/Berlin
X-LIC-LOCATION:Europe/Berlin
BEGIN:DAYLIGHT
DTSTART:20250330T030000
TZOFFSETFROM:+0100
TZOFFSETTO:+0200
TZNAME:CEST
END:DAYLIGHT
END:VTIMEZONE
END:VCALENDAR